BEGIN:VCALENDAR
VERSION:2.0
PRODID:-//Velkommen til Vestmarka! - ECPv6.0.13.1//NONSGML v1.0//EN
CALSCALE:GREGORIAN
METHOD:PUBLISH
X-WR-CALNAME:Velkommen til Vestmarka!
X-ORIGINAL-URL:https://vestmarka.info
X-WR-CALDESC:Arrangement for Velkommen til Vestmarka!
REFRESH-INTERVAL;VALUE=DURATION:PT1H
X-Robots-Tag:noindex
X-PUBLISHED-TTL:PT1H
BEGIN:VTIMEZONE
TZID:Europe/Oslo
BEGIN:DAYLIGHT
TZOFFSETFROM:+0100
TZOFFSETTO:+0200
TZNAME:CEST
DTSTART:20260329T010000
END:DAYLIGHT
BEGIN:STANDARD
TZOFFSETFROM:+0200
TZOFFSETTO:+0100
TZNAME:CET
DTSTART:20261025T010000
END:STANDARD
END:VTIMEZONE
BEGIN:VEVENT
DTSTART;TZID=Europe/Oslo:20260509T100000
DTEND;TZID=Europe/Oslo:20260509T120000
DTSTAMP:20260425T235718
CREATED:20260313T193523Z
LAST-MODIFIED:20260313T193523Z
UID:12253-1778320800-1778328000@vestmarka.info
SUMMARY:Dugnad kirkegården / Kirkestua
DESCRIPTION:Dugnad
URL:https://vestmarka.info/aktivit/dugnad-kirkegarden-kirkestua/
END:VEVENT
BEGIN:VEVENT
DTSTART;TZID=Europe/Oslo:20260511T190000
DTEND;TZID=Europe/Oslo:20260511T210000
DTSTAMP:20260425T235718
CREATED:20260111T154943Z
LAST-MODIFIED:20260111T154943Z
UID:12108-1778526000-1778533200@vestmarka.info
SUMMARY:Styremøte VG
DESCRIPTION:
URL:https://vestmarka.info/aktivit/styremote-vg-17/
LOCATION:Kantina Eidskog Montessoriskole
END:VEVENT
BEGIN:VEVENT
DTSTART;TZID=Europe/Oslo:20260512T180000
DTEND;TZID=Europe/Oslo:20260512T190000
DTSTAMP:20260425T235718
CREATED:20260419T053700Z
LAST-MODIFIED:20260419T053700Z
UID:12347-1778608800-1778612400@vestmarka.info
SUMMARY:Årsmøte Eidskog Montessoriskole SA
DESCRIPTION:12. mai kl. 18.00 er det årsmøte/generalforsamling for Eidskog Montessoriskole SA.
URL:https://vestmarka.info/aktivit/arsmote-eidskog-montessoriskole-sa/
LOCATION:Eidskog Montessoriskole\, Skillingmarkvegen 110\, Vestmarka
END:VEVENT
BEGIN:VEVENT
DTSTART;TZID=Europe/Oslo:20260517T113000
DTEND;TZID=Europe/Oslo:20260517T113000
DTSTAMP:20260425T235718
CREATED:20260421T193137Z
LAST-MODIFIED:20260421T193137Z
UID:12365-1779017400-1779017400@vestmarka.info
SUMMARY:17.mai-gudstjeneste
DESCRIPTION:17. mai-gudstjeneste
URL:https://vestmarka.info/aktivit/17-mai-gudstjeneste-3/
LOCATION:Vestmarka kirke
END:VEVENT
BEGIN:VEVENT
DTSTART;TZID=Europe/Oslo:20260524T110000
DTEND;TZID=Europe/Oslo:20260524T110000
DTSTAMP:20260425T235718
CREATED:20260421T193244Z
LAST-MODIFIED:20260421T193244Z
UID:12367-1779620400-1779620400@vestmarka.info
SUMMARY:Konfirmasjonsgudstjeneste
DESCRIPTION:
URL:https://vestmarka.info/aktivit/konfirmasjonsgudstjeneste-3/
LOCATION:Vestmarka kirke
END:VEVENT
END:VCALENDAR