BEGIN:VCALENDAR
VERSION:2.0
PRODID:-//Velkommen til Vestmarka! - ECPv6.0.13.1//NONSGML v1.0//EN
CALSCALE:GREGORIAN
METHOD:PUBLISH
X-WR-CALNAME:Velkommen til Vestmarka!
X-ORIGINAL-URL:https://vestmarka.info
X-WR-CALDESC:Arrangement for Velkommen til Vestmarka!
REFRESH-INTERVAL;VALUE=DURATION:PT1H
X-Robots-Tag:noindex
X-PUBLISHED-TTL:PT1H
BEGIN:VTIMEZONE
TZID:Europe/Oslo
BEGIN:DAYLIGHT
TZOFFSETFROM:+0100
TZOFFSETTO:+0200
TZNAME:CEST
DTSTART:20260329T010000
END:DAYLIGHT
BEGIN:STANDARD
TZOFFSETFROM:+0200
TZOFFSETTO:+0100
TZNAME:CET
DTSTART:20261025T010000
END:STANDARD
END:VTIMEZONE
BEGIN:VEVENT
DTSTART;TZID=Europe/Oslo:20260331T180000
DTEND;TZID=Europe/Oslo:20260331T180000
DTSTAMP:20260426T005934
CREATED:20260104T155951Z
LAST-MODIFIED:20260104T160148Z
UID:12080-1774980000-1774980000@vestmarka.info
SUMMARY:Kino
DESCRIPTION:Mer info hos Bygdekinoen
URL:https://vestmarka.info/aktivit/kino-3/
LOCATION:Vestmarka Samfunnshus
END:VEVENT
BEGIN:VEVENT
DTSTART;TZID=Europe/Oslo:20260331T200000
DTEND;TZID=Europe/Oslo:20260331T200000
DTSTAMP:20260426T005934
CREATED:20260104T160111Z
LAST-MODIFIED:20260104T160306Z
UID:12082-1774987200-1774987200@vestmarka.info
SUMMARY:Kino
DESCRIPTION:Mer info hos Bygdekinoen
URL:https://vestmarka.info/aktivit/kino-4/
LOCATION:Vestmarka Samfunnshus
END:VEVENT
END:VCALENDAR